BEGIN:VCALENDAR
VERSION:2.0
PRODID:-//Cornerstone Norwich
CALSCALE:GREGORIAN
METHOD:PUBLISH
X-WR-CALNAME:Cornerstone Norwich
X-ORIGINAL-URL:https://www.cornerstonenorwich.org/product/prayer/
X-WR-CALDESC:Prayer
BEGIN:VEVENT
DTSTART:20251130T170000
DTEND:20251130T190000
SUMMARY:Prayer
DESCRIPTION:
URL:https://www.cornerstonenorwich.org/product/prayer/
LOCATION:St Georges Hall, Long Ln, Stoke Holy Cross, Norwich NR14 8LY, UK
END:VEVENT
END:VCALENDAR
